BEGIN:VCALENDAR
VERSION:2.0
PRODID:-//My Calendar//http://www.joedolson.com//v3.2.4//EN
METHOD:PUBLISH
CALSCALE:GREGORIAN
X-WR-CALNAME:Delano&#039;s Edge
X-PUBLISHED-TTL:PT24H
REFRESH-INTERVAL;VALUE=DURATION:PT24H
X-WR-CALDESC:Events from Delano&#039;s Edge
BEGIN:VEVENT
UID:127-14
LOCATION:
SUMMARY:Florida
DTSTAMP:20190902T000000
ORGANIZER;CN=Dale Reeves:MAILTO:woodveyor@gmail.com
DTSTART;TZID=America/North_Dakota/Center:20190902T000000
DTEND;TZID=America/North_Dakota/Center:20190907T000000
URL;VALUE=URI:https://delanosedge.com/calendar-of-events/
DESCRIPTION: 
CATEGORIES:General
X-FUNAMBOL-ALLDAY: 1
X-MICROSOFT-CDO-ALLDAYEVENT: TRUE

END:VEVENT
BEGIN:VEVENT
UID:126-13
LOCATION:
SUMMARY:Florida
DTSTAMP:20190805T000000
ORGANIZER;CN=Dale Reeves:MAILTO:woodveyor@gmail.com
DTSTART;TZID=America/North_Dakota/Center:20190805T000000
DTEND;TZID=America/North_Dakota/Center:20190810T000000
URL;VALUE=URI:https://delanosedge.com/calendar-of-events/
DESCRIPTION: 
CATEGORIES:General
X-FUNAMBOL-ALLDAY: 1
X-MICROSOFT-CDO-ALLDAYEVENT: TRUE

END:VEVENT
BEGIN:VEVENT
UID:124-11
LOCATION:
SUMMARY:Florida
DTSTAMP:20190701T000000
ORGANIZER;CN=Dale Reeves:MAILTO:woodveyor@gmail.com
DTSTART;TZID=America/North_Dakota/Center:20190701T000000
DTEND;TZID=America/North_Dakota/Center:20190706T000000
URL;VALUE=URI:https://delanosedge.com/calendar-of-events/
DESCRIPTION: 
CATEGORIES:General
X-FUNAMBOL-ALLDAY: 1
X-MICROSOFT-CDO-ALLDAYEVENT: TRUE

END:VEVENT
BEGIN:VEVENT
UID:125-12
LOCATION:
SUMMARY:Florida
DTSTAMP:20260423T120000
ORGANIZER;CN=Dale Reeves:MAILTO:woodveyor@gmail.com
DTSTART;TZID=America/North_Dakota/Center:20260423T120000
DTEND;TZID=America/North_Dakota/Center:19700102T000000
URL;VALUE=URI:https://delanosedge.com/calendar-of-events/
DESCRIPTION: 
CATEGORIES:General
X-FUNAMBOL-ALLDAY: 1
X-MICROSOFT-CDO-ALLDAYEVENT: TRUE

END:VEVENT
BEGIN:VEVENT
UID:123-10
LOCATION:
SUMMARY:Mobile sharpening in Florida.
DTSTAMP:20190401T000000
ORGANIZER;CN=Dale Reeves:MAILTO:woodveyor@gmail.com
DTSTART;TZID=America/North_Dakota/Center:20190401T000000
DTEND;TZID=America/North_Dakota/Center:20190406T000000
URL;VALUE=URI:https://delanosedge.com/calendar-of-events/
DESCRIPTION: 
CATEGORIES:General
X-FUNAMBOL-ALLDAY: 1
X-MICROSOFT-CDO-ALLDAYEVENT: TRUE

END:VEVENT
BEGIN:VEVENT
UID:122-9
LOCATION:
SUMMARY:Mobile sharpening in Florida.
DTSTAMP:20190304T000000
ORGANIZER;CN=Dale Reeves:MAILTO:woodveyor@gmail.com
DTSTART;TZID=America/North_Dakota/Center:20190304T000000
DTEND;TZID=America/North_Dakota/Center:20190309T000000
URL;VALUE=URI:https://delanosedge.com/calendar-of-events/
DESCRIPTION: 
CATEGORIES:General
X-FUNAMBOL-ALLDAY: 1
X-MICROSOFT-CDO-ALLDAYEVENT: TRUE

END:VEVENT
BEGIN:VEVENT
UID:121-8
LOCATION:
SUMMARY:Mobile sharpening in Florida.
DTSTAMP:20190204T000000
ORGANIZER;CN=Dale Reeves:MAILTO:woodveyor@gmail.com
DTSTART;TZID=America/North_Dakota/Center:20190204T000000
DTEND;TZID=America/North_Dakota/Center:20190209T000000
URL;VALUE=URI:https://delanosedge.com/calendar-of-events/
DESCRIPTION: 
CATEGORIES:General
X-FUNAMBOL-ALLDAY: 1
X-MICROSOFT-CDO-ALLDAYEVENT: TRUE

END:VEVENT
BEGIN:VEVENT
UID:120-7
LOCATION:
SUMMARY:Birmingham, AL.
DTSTAMP:20181203T000000
ORGANIZER;CN=Dale Reeves:MAILTO:woodveyor@gmail.com
DTSTART;TZID=America/North_Dakota/Center:20181203T000000
DTEND;TZID=America/North_Dakota/Center:20181204T000000
URL;VALUE=URI:https://delanosedge.com/calendar-of-events/
DESCRIPTION:Sharpening in Birmingham 
CATEGORIES:General
X-FUNAMBOL-ALLDAY: 1
X-MICROSOFT-CDO-ALLDAYEVENT: TRUE

END:VEVENT
BEGIN:VEVENT
UID:119-6
LOCATION:
SUMMARY:Birmingham, AL.
DTSTAMP:20181128T000000
ORGANIZER;CN=Dale Reeves:MAILTO:woodveyor@gmail.com
DTSTART;TZID=America/North_Dakota/Center:20181128T000000
DTEND;TZID=America/North_Dakota/Center:20181129T000000
URL;VALUE=URI:https://delanosedge.com/calendar-of-events/
DESCRIPTION:Sharpening in Birmingham 
CATEGORIES:General
X-FUNAMBOL-ALLDAY: 1
X-MICROSOFT-CDO-ALLDAYEVENT: TRUE

END:VEVENT
BEGIN:VEVENT
UID:118-5
LOCATION:
SUMMARY:On-Site @ Prattville Pickers!!!
DTSTAMP:20150717T100000
ORGANIZER;CN=Dale Reeves:MAILTO:woodveyor@gmail.com
DTSTART;TZID=America/North_Dakota/Center:20150717T100000
DTEND;TZID=America/North_Dakota/Center:20150717T180000
URL;VALUE=URI:https://delanosedge.com/calendar-of-events/
DESCRIPTION: 
CATEGORIES:General
END:VEVENT
BEGIN:VEVENT
UID:110-4
LOCATION:
SUMMARY:!!!Set Up At Prattville Pickers!!!
DTSTAMP:20150619T100000
ORGANIZER;CN=Dale Reeves:MAILTO:woodveyor@gmail.com
DTSTART;TZID=America/North_Dakota/Center:20150619T100000
DTEND;TZID=America/North_Dakota/Center:20150619T180000
URL;VALUE=URI:https://delanosedge.com/calendar-of-events/
DESCRIPTION:Bring your dull blades to Prattville Pickers and drop them off with me and go in and enjoy some shopping in the A.C.! when you come out, your blades will be ready to go! 
CATEGORIES:General
END:VEVENT
BEGIN:VEVENT
UID:59-3
LOCATION:
SUMMARY:Prattville Pickers Drop Off/Pick Up
DTSTAMP:20150528T110000
ORGANIZER;CN=Dale Reeves:MAILTO:woodveyor@gmail.com
DTSTART;TZID=America/North_Dakota/Center:20150528T110000
DTEND;TZID=America/North_Dakota/Center:20150529T000000
URL;VALUE=URI:https://delanosedge.com/calendar-of-events/
DESCRIPTION:Delano's Edge will drop off sharpened/repaired knives and shears that customers dropped off at Prattville Pickers and pick up blades to be sharpened and repaired for the next drop off/pick up day. 
CATEGORIES:General
END:VEVENT
BEGIN:VEVENT
UID:60-3
LOCATION:
SUMMARY:Prattville Pickers Drop Off/Pick Up
DTSTAMP:20150604T110000
ORGANIZER;CN=Dale Reeves:MAILTO:woodveyor@gmail.com
DTSTART;TZID=America/North_Dakota/Center:20150604T110000
DTEND;TZID=America/North_Dakota/Center:20150605T000000
URL;VALUE=URI:https://delanosedge.com/calendar-of-events/
DESCRIPTION:Delano's Edge will drop off sharpened/repaired knives and shears that customers dropped off at Prattville Pickers and pick up blades to be sharpened and repaired for the next drop off/pick up day. 
CATEGORIES:General
END:VEVENT
BEGIN:VEVENT
UID:61-3
LOCATION:
SUMMARY:Prattville Pickers Drop Off/Pick Up
DTSTAMP:20150611T110000
ORGANIZER;CN=Dale Reeves:MAILTO:woodveyor@gmail.com
DTSTART;TZID=America/North_Dakota/Center:20150611T110000
DTEND;TZID=America/North_Dakota/Center:20150612T000000
URL;VALUE=URI:https://delanosedge.com/calendar-of-events/
DESCRIPTION:Delano's Edge will drop off sharpened/repaired knives and shears that customers dropped off at Prattville Pickers and pick up blades to be sharpened and repaired for the next drop off/pick up day. 
CATEGORIES:General
END:VEVENT
BEGIN:VEVENT
UID:62-3
LOCATION:
SUMMARY:Prattville Pickers Drop Off/Pick Up
DTSTAMP:20150618T110000
ORGANIZER;CN=Dale Reeves:MAILTO:woodveyor@gmail.com
DTSTART;TZID=America/North_Dakota/Center:20150618T110000
DTEND;TZID=America/North_Dakota/Center:20150619T000000
URL;VALUE=URI:https://delanosedge.com/calendar-of-events/
DESCRIPTION:Delano's Edge will drop off sharpened/repaired knives and shears that customers dropped off at Prattville Pickers and pick up blades to be sharpened and repaired for the next drop off/pick up day. 
CATEGORIES:General
END:VEVENT
BEGIN:VEVENT
UID:63-3
LOCATION:
SUMMARY:Prattville Pickers Drop Off/Pick Up
DTSTAMP:20150625T110000
ORGANIZER;CN=Dale Reeves:MAILTO:woodveyor@gmail.com
DTSTART;TZID=America/North_Dakota/Center:20150625T110000
DTEND;TZID=America/North_Dakota/Center:20150626T000000
URL;VALUE=URI:https://delanosedge.com/calendar-of-events/
DESCRIPTION:Delano's Edge will drop off sharpened/repaired knives and shears that customers dropped off at Prattville Pickers and pick up blades to be sharpened and repaired for the next drop off/pick up day. 
CATEGORIES:General
END:VEVENT
BEGIN:VEVENT
UID:64-3
LOCATION:
SUMMARY:Prattville Pickers Drop Off/Pick Up
DTSTAMP:20150702T110000
ORGANIZER;CN=Dale Reeves:MAILTO:woodveyor@gmail.com
DTSTART;TZID=America/North_Dakota/Center:20150702T110000
DTEND;TZID=America/North_Dakota/Center:20150703T000000
URL;VALUE=URI:https://delanosedge.com/calendar-of-events/
DESCRIPTION:Delano's Edge will drop off sharpened/repaired knives and shears that customers dropped off at Prattville Pickers and pick up blades to be sharpened and repaired for the next drop off/pick up day. 
CATEGORIES:General
END:VEVENT
BEGIN:VEVENT
UID:65-3
LOCATION:
SUMMARY:Prattville Pickers Drop Off/Pick Up
DTSTAMP:20150709T110000
ORGANIZER;CN=Dale Reeves:MAILTO:woodveyor@gmail.com
DTSTART;TZID=America/North_Dakota/Center:20150709T110000
DTEND;TZID=America/North_Dakota/Center:20150710T000000
URL;VALUE=URI:https://delanosedge.com/calendar-of-events/
DESCRIPTION:Delano's Edge will drop off sharpened/repaired knives and shears that customers dropped off at Prattville Pickers and pick up blades to be sharpened and repaired for the next drop off/pick up day. 
CATEGORIES:General
END:VEVENT
BEGIN:VEVENT
UID:66-3
LOCATION:
SUMMARY:Prattville Pickers Drop Off/Pick Up
DTSTAMP:20150716T110000
ORGANIZER;CN=Dale Reeves:MAILTO:woodveyor@gmail.com
DTSTART;TZID=America/North_Dakota/Center:20150716T110000
DTEND;TZID=America/North_Dakota/Center:20150717T000000
URL;VALUE=URI:https://delanosedge.com/calendar-of-events/
DESCRIPTION:Delano's Edge will drop off sharpened/repaired knives and shears that customers dropped off at Prattville Pickers and pick up blades to be sharpened and repaired for the next drop off/pick up day. 
CATEGORIES:General
END:VEVENT
BEGIN:VEVENT
UID:67-3
LOCATION:
SUMMARY:Prattville Pickers Drop Off/Pick Up
DTSTAMP:20150723T110000
ORGANIZER;CN=Dale Reeves:MAILTO:woodveyor@gmail.com
DTSTART;TZID=America/North_Dakota/Center:20150723T110000
DTEND;TZID=America/North_Dakota/Center:20150724T000000
URL;VALUE=URI:https://delanosedge.com/calendar-of-events/
DESCRIPTION:Delano's Edge will drop off sharpened/repaired knives and shears that customers dropped off at Prattville Pickers and pick up blades to be sharpened and repaired for the next drop off/pick up day. 
CATEGORIES:General
END:VEVENT
BEGIN:VEVENT
UID:68-3
LOCATION:
SUMMARY:Prattville Pickers Drop Off/Pick Up
DTSTAMP:20150730T110000
ORGANIZER;CN=Dale Reeves:MAILTO:woodveyor@gmail.com
DTSTART;TZID=America/North_Dakota/Center:20150730T110000
DTEND;TZID=America/North_Dakota/Center:20150731T000000
URL;VALUE=URI:https://delanosedge.com/calendar-of-events/
DESCRIPTION:Delano's Edge will drop off sharpened/repaired knives and shears that customers dropped off at Prattville Pickers and pick up blades to be sharpened and repaired for the next drop off/pick up day. 
CATEGORIES:General
END:VEVENT
BEGIN:VEVENT
UID:69-3
LOCATION:
SUMMARY:Prattville Pickers Drop Off/Pick Up
DTSTAMP:20150806T110000
ORGANIZER;CN=Dale Reeves:MAILTO:woodveyor@gmail.com
DTSTART;TZID=America/North_Dakota/Center:20150806T110000
DTEND;TZID=America/North_Dakota/Center:20150807T000000
URL;VALUE=URI:https://delanosedge.com/calendar-of-events/
DESCRIPTION:Delano's Edge will drop off sharpened/repaired knives and shears that customers dropped off at Prattville Pickers and pick up blades to be sharpened and repaired for the next drop off/pick up day. 
CATEGORIES:General
END:VEVENT
BEGIN:VEVENT
UID:70-3
LOCATION:
SUMMARY:Prattville Pickers Drop Off/Pick Up
DTSTAMP:20150813T110000
ORGANIZER;CN=Dale Reeves:MAILTO:woodveyor@gmail.com
DTSTART;TZID=America/North_Dakota/Center:20150813T110000
DTEND;TZID=America/North_Dakota/Center:20150814T000000
URL;VALUE=URI:https://delanosedge.com/calendar-of-events/
DESCRIPTION:Delano's Edge will drop off sharpened/repaired knives and shears that customers dropped off at Prattville Pickers and pick up blades to be sharpened and repaired for the next drop off/pick up day. 
CATEGORIES:General
END:VEVENT
BEGIN:VEVENT
UID:71-3
LOCATION:
SUMMARY:Prattville Pickers Drop Off/Pick Up
DTSTAMP:20150820T110000
ORGANIZER;CN=Dale Reeves:MAILTO:woodveyor@gmail.com
DTSTART;TZID=America/North_Dakota/Center:20150820T110000
DTEND;TZID=America/North_Dakota/Center:20150821T000000
URL;VALUE=URI:https://delanosedge.com/calendar-of-events/
DESCRIPTION:Delano's Edge will drop off sharpened/repaired knives and shears that customers dropped off at Prattville Pickers and pick up blades to be sharpened and repaired for the next drop off/pick up day. 
CATEGORIES:General
END:VEVENT
BEGIN:VEVENT
UID:72-3
LOCATION:
SUMMARY:Prattville Pickers Drop Off/Pick Up
DTSTAMP:20150827T110000
ORGANIZER;CN=Dale Reeves:MAILTO:woodveyor@gmail.com
DTSTART;TZID=America/North_Dakota/Center:20150827T110000
DTEND;TZID=America/North_Dakota/Center:20150828T000000
URL;VALUE=URI:https://delanosedge.com/calendar-of-events/
DESCRIPTION:Delano's Edge will drop off sharpened/repaired knives and shears that customers dropped off at Prattville Pickers and pick up blades to be sharpened and repaired for the next drop off/pick up day. 
CATEGORIES:General
END:VEVENT
BEGIN:VEVENT
UID:73-3
LOCATION:
SUMMARY:Prattville Pickers Drop Off/Pick Up
DTSTAMP:20150903T110000
ORGANIZER;CN=Dale Reeves:MAILTO:woodveyor@gmail.com
DTSTART;TZID=America/North_Dakota/Center:20150903T110000
DTEND;TZID=America/North_Dakota/Center:20150904T000000
URL;VALUE=URI:https://delanosedge.com/calendar-of-events/
DESCRIPTION:Delano's Edge will drop off sharpened/repaired knives and shears that customers dropped off at Prattville Pickers and pick up blades to be sharpened and repaired for the next drop off/pick up day. 
CATEGORIES:General
END:VEVENT
BEGIN:VEVENT
UID:74-3
LOCATION:
SUMMARY:Prattville Pickers Drop Off/Pick Up
DTSTAMP:20150910T110000
ORGANIZER;CN=Dale Reeves:MAILTO:woodveyor@gmail.com
DTSTART;TZID=America/North_Dakota/Center:20150910T110000
DTEND;TZID=America/North_Dakota/Center:20150911T000000
URL;VALUE=URI:https://delanosedge.com/calendar-of-events/
DESCRIPTION:Delano's Edge will drop off sharpened/repaired knives and shears that customers dropped off at Prattville Pickers and pick up blades to be sharpened and repaired for the next drop off/pick up day. 
CATEGORIES:General
END:VEVENT
BEGIN:VEVENT
UID:75-3
LOCATION:
SUMMARY:Prattville Pickers Drop Off/Pick Up
DTSTAMP:20150917T110000
ORGANIZER;CN=Dale Reeves:MAILTO:woodveyor@gmail.com
DTSTART;TZID=America/North_Dakota/Center:20150917T110000
DTEND;TZID=America/North_Dakota/Center:20150918T000000
URL;VALUE=URI:https://delanosedge.com/calendar-of-events/
DESCRIPTION:Delano's Edge will drop off sharpened/repaired knives and shears that customers dropped off at Prattville Pickers and pick up blades to be sharpened and repaired for the next drop off/pick up day. 
CATEGORIES:General
END:VEVENT
BEGIN:VEVENT
UID:76-3
LOCATION:
SUMMARY:Prattville Pickers Drop Off/Pick Up
DTSTAMP:20150924T110000
ORGANIZER;CN=Dale Reeves:MAILTO:woodveyor@gmail.com
DTSTART;TZID=America/North_Dakota/Center:20150924T110000
DTEND;TZID=America/North_Dakota/Center:20150925T000000
URL;VALUE=URI:https://delanosedge.com/calendar-of-events/
DESCRIPTION:Delano's Edge will drop off sharpened/repaired knives and shears that customers dropped off at Prattville Pickers and pick up blades to be sharpened and repaired for the next drop off/pick up day. 
CATEGORIES:General
END:VEVENT
BEGIN:VEVENT
UID:77-3
LOCATION:
SUMMARY:Prattville Pickers Drop Off/Pick Up
DTSTAMP:20151001T110000
ORGANIZER;CN=Dale Reeves:MAILTO:woodveyor@gmail.com
DTSTART;TZID=America/North_Dakota/Center:20151001T110000
DTEND;TZID=America/North_Dakota/Center:20151002T000000
URL;VALUE=URI:https://delanosedge.com/calendar-of-events/
DESCRIPTION:Delano's Edge will drop off sharpened/repaired knives and shears that customers dropped off at Prattville Pickers and pick up blades to be sharpened and repaired for the next drop off/pick up day. 
CATEGORIES:General
END:VEVENT
END:VCALENDAR